BEGIN:VCALENDAR
VERSION:2.0
PRODID:-//hacksw/handcal//NONSGML v1.0//EN
BEGIN:VEVENT
SUMMARY:Championnat de France 2026 de Sambo Sportif
UID:c94a7928-95ac-422d-b2ae-27c10f161581
DTSTART:20260326T230000Z
DTEND:20260329T230000Z
LOCATION:Localisation Artenium , 4 parc de l’artere 63122 Ceyrat
CATEGORIES:Sportif
STATUS:
URL;VALUE=URI:https://www.sambopleyben.fr/evenements/2026/03/27/championnat-de-france-2026-de-sambo-sportif-2421990
END:VEVENT
END:VCALENDAR
