BEGIN:VCALENDAR
VERSION:2.0
PRODID:-//hacksw/handcal//NONSGML v1.0//EN
BEGIN:VEVENT
SUMMARY:Grand Prix de Paris Roissy 2026
UID:f3b4acca-fb48-4207-9dc2-b0bcc43a4251
DTSTART:20260405T160000Z
DTEND:20260406T180000Z
LOCATION:Localisation gymnase des Tourelles 77410 Claye Souilly
CATEGORIES:Sportif
STATUS:
URL;VALUE=URI:https://www.sambopleyben.fr/evenements/2026/04/05/grand-prix-de-paris-roissy-2026-2442677
END:VEVENT
END:VCALENDAR
